BEGIN:VCALENDAR
VERSION:2.0
BEGIN:VEVENT
SUMMARY:י Eggroll: מופע להקה at באביטי
DESCRIPTION:מופע להקה מלא בקלאסיקות רוק ופופ מרוב הדמנים!\nחברי הלהקה:\n\nליאור סקר (גיטרה ושירה)\nשגיא אחיאל (גיטרה ושירה)\nדן קרפמן (בס ושירה)\nליאור טלמור (קלידים)\nגיל אידן (תופים)\nנעמה שלו (חליל ושירה)\n\nפתיחת דלתות: 20:00\n
DTSTART:20260501T183000Z
DTEND:20260501T203000Z
LOCATION:HaTa'as St 20\, Kefar Sava\, 4442520\, Israel
END:VEVENT
END:VCALENDAR